BEGIN:VCALENDAR
VERSION:2.0
PRODID:-//Raclette Events - ECPv4.0.5//NONSGML v1.0//EN
CALSCALE:GREGORIAN
METHOD:PUBLISH
X-WR-CALNAME:Raclette Events
X-ORIGINAL-URL:https://www.raclette-events.de
X-WR-CALDESC:Events for Raclette Events
BEGIN:VEVENT
DTSTART;VALUE=DATE:20161001
DTEND;VALUE=DATE:20161002
DTSTAMP:20260419T184038
CREATED:20160513
LAST-MODIFIED:20160810
UID:556-1475280000-1475452799@www.raclette-events.de
SUMMARY:RACLETTE.de on Tour: Moerser Herbst
DESCRIPTION:Der Moerser Herbst ist dieses Jahr das letzte Volksfest\, auf dem wir mit unserer Raclette-Hütte vertreten sein werden. Gekennzeichnet durch einen bunten Mix verschiedenster Stände sowie Attraktionen für die kleinen Besucher ist der Moerser Herbst vor allem durch seine Vielfalt bekannt. Auch wir von RACLETTE.de laden Sie herzlich dazu ein\, uns auf dem Moerser Herbst zu besuchen und gemeinsam mit uns eine tolle Raclette-Eventtournee abklingen zu lassen.\nDer Moerser Herbst dauert zwei Tage und erstreckt sich über die Fußängerzone der Moerser Innenstadt. Von 11 bis 19 Uhr haben Sie Samstag und Sonntag die Möglichkeit\, verschiedensten musikalischen Darbietungen zu lauschen und dabei durch die zahlreichen unterschiedlichen Stände zu bummeln. Dabei können Sie zudem den verkaufsoffenen Sonntag von 13 bis 19 Uhr ebenfalls gerne zum Bummeln nutzen. Von jung bis alt findet jeder auf dem bunten Moerser Herbst etwas\, was ihm gefällt. Für die jungen Besucher sind vor allem die verschiedenen Attraktionen und Fahrgeschäfte sehr interessant\, während für ältere Besucher eine Großzahl von Getränke- und Essensständen sowie eine kleine Auswahl an Marktständen bereitstehen wird. Und wir von RACLETTE.de laden Sie herzlich dazu ein\, dieses tolle Erlebnis mit unserem leckeren Schweizer Raclette abzurunden.\nAls Käse verwenden wir natürlich nur den preisgekrönten Seiler Raclette-Käse. Serviert wird ganz traditionell auf Bio-Kartoffeln und man kann wahlweise auch Silberzwiebeln\, Gürkchen\, Speck\, Jalapeños oder Kaminwurzerl dazu bestellen. Zubereitet wird bei uns mit einem echten Walliser Raclette-Ofen von TTM für zwei Käsehälften. So ist gewährleistet\, dass man nie lange auf die nächste Portion warten muss. Bei uns im Shop kann man die Geräte von TTM natürlich auch erwerben\, falls man auf den Geschmack gekommen ist und Familie/ Freunde auch auf klassische Art verköstigen möchte.\n\n   
URL:https://www.raclette-events.de/event/raclette-de-on-tour-moerser-herbst/
LOCATION:Innenstadt Moers-Mitte 47441 Moers\, Moers\, NRW\, 47441\, Deutschland
END:VEVENT
END:VCALENDAR